BEGIN:VCALENDAR
VERSION:2.0
PRODID:-//The Quest - ECPv6.15.20//NONSGML v1.0//EN
CALSCALE:GREGORIAN
METHOD:PUBLISH
X-WR-CALNAME:The Quest
X-ORIGINAL-URL:https://wearethequest.org
X-WR-CALDESC:Events for The Quest
REFRESH-INTERVAL;VALUE=DURATION:PT1H
X-Robots-Tag:noindex
X-PUBLISHED-TTL:PT1H
BEGIN:VTIMEZONE
TZID:America/Los_Angeles
BEGIN:DAYLIGHT
TZOFFSETFROM:-0800
TZOFFSETTO:-0700
TZNAME:PDT
DTSTART:20250309T100000
END:DAYLIGHT
BEGIN:STANDARD
TZOFFSETFROM:-0700
TZOFFSETTO:-0800
TZNAME:PST
DTSTART:20251102T090000
END:STANDARD
BEGIN:DAYLIGHT
TZOFFSETFROM:-0800
TZOFFSETTO:-0700
TZNAME:PDT
DTSTART:20260308T100000
END:DAYLIGHT
BEGIN:STANDARD
TZOFFSETFROM:-0700
TZOFFSETTO:-0800
TZNAME:PST
DTSTART:20261101T090000
END:STANDARD
BEGIN:DAYLIGHT
TZOFFSETFROM:-0800
TZOFFSETTO:-0700
TZNAME:PDT
DTSTART:20270314T100000
END:DAYLIGHT
BEGIN:STANDARD
TZOFFSETFROM:-0700
TZOFFSETTO:-0800
TZNAME:PST
DTSTART:20271107T090000
END:STANDARD
END:VTIMEZONE
BEGIN:VEVENT
DTSTART;TZID=America/Los_Angeles:20260509T090000
DTEND;TZID=America/Los_Angeles:20260509T103000
DTSTAMP:20260420T054909
CREATED:20250609T121747Z
LAST-MODIFIED:20250609T121747Z
UID:10006047-1778317200-1778322600@wearethequest.org
SUMMARY:Quest Hiking Club
DESCRIPTION:We’ll be meeting at 9:00am at the trailhead. Please click here for all the details!
URL:https://wearethequest.org/event/quest-hiking-club/2026-05-09/
ATTACH;FMTTYPE=image/png:https://wearethequest.org/wp-content/uploads/2021/08/Hiking-Club-Monthly.png
END:VEVENT
BEGIN:VEVENT
DTSTART;TZID=America/Los_Angeles:20260613T090000
DTEND;TZID=America/Los_Angeles:20260613T103000
DTSTAMP:20260420T054909
CREATED:20250609T121747Z
LAST-MODIFIED:20250609T121747Z
UID:10006048-1781341200-1781346600@wearethequest.org
SUMMARY:Quest Hiking Club
DESCRIPTION:We’ll be meeting at 9:00am at the trailhead. Please click here for all the details!
URL:https://wearethequest.org/event/quest-hiking-club/2026-06-13/
ATTACH;FMTTYPE=image/png:https://wearethequest.org/wp-content/uploads/2021/08/Hiking-Club-Monthly.png
END:VEVENT
BEGIN:VEVENT
DTSTART;TZID=America/Los_Angeles:20260711T090000
DTEND;TZID=America/Los_Angeles:20260711T103000
DTSTAMP:20260420T054909
CREATED:20250609T121747Z
LAST-MODIFIED:20250609T121747Z
UID:10006049-1783760400-1783765800@wearethequest.org
SUMMARY:Quest Hiking Club
DESCRIPTION:We’ll be meeting at 9:00am at the trailhead. Please click here for all the details!
URL:https://wearethequest.org/event/quest-hiking-club/2026-07-11/
ATTACH;FMTTYPE=image/png:https://wearethequest.org/wp-content/uploads/2021/08/Hiking-Club-Monthly.png
END:VEVENT
BEGIN:VEVENT
DTSTART;TZID=America/Los_Angeles:20260808T090000
DTEND;TZID=America/Los_Angeles:20260808T103000
DTSTAMP:20260420T054909
CREATED:20250609T121747Z
LAST-MODIFIED:20250609T121747Z
UID:10006050-1786179600-1786185000@wearethequest.org
SUMMARY:Quest Hiking Club
DESCRIPTION:We’ll be meeting at 9:00am at the trailhead. Please click here for all the details!
URL:https://wearethequest.org/event/quest-hiking-club/2026-08-08/
ATTACH;FMTTYPE=image/png:https://wearethequest.org/wp-content/uploads/2021/08/Hiking-Club-Monthly.png
END:VEVENT
BEGIN:VEVENT
DTSTART;TZID=America/Los_Angeles:20260912T090000
DTEND;TZID=America/Los_Angeles:20260912T103000
DTSTAMP:20260420T054909
CREATED:20250609T121747Z
LAST-MODIFIED:20250609T121747Z
UID:10006051-1789203600-1789209000@wearethequest.org
SUMMARY:Quest Hiking Club
DESCRIPTION:We’ll be meeting at 9:00am at the trailhead. Please click here for all the details!
URL:https://wearethequest.org/event/quest-hiking-club/2026-09-12/
ATTACH;FMTTYPE=image/png:https://wearethequest.org/wp-content/uploads/2021/08/Hiking-Club-Monthly.png
END:VEVENT
BEGIN:VEVENT
DTSTART;TZID=America/Los_Angeles:20261010T090000
DTEND;TZID=America/Los_Angeles:20261010T103000
DTSTAMP:20260420T054909
CREATED:20250609T121747Z
LAST-MODIFIED:20250609T121747Z
UID:10006052-1791622800-1791628200@wearethequest.org
SUMMARY:Quest Hiking Club
DESCRIPTION:We’ll be meeting at 9:00am at the trailhead. Please click here for all the details!
URL:https://wearethequest.org/event/quest-hiking-club/2026-10-10/
ATTACH;FMTTYPE=image/png:https://wearethequest.org/wp-content/uploads/2021/08/Hiking-Club-Monthly.png
END:VEVENT
BEGIN:VEVENT
DTSTART;TZID=America/Los_Angeles:20261114T090000
DTEND;TZID=America/Los_Angeles:20261114T103000
DTSTAMP:20260420T054909
CREATED:20250609T121747Z
LAST-MODIFIED:20250609T121747Z
UID:10006053-1794646800-1794652200@wearethequest.org
SUMMARY:Quest Hiking Club
DESCRIPTION:We’ll be meeting at 9:00am at the trailhead. Please click here for all the details!
URL:https://wearethequest.org/event/quest-hiking-club/2026-11-14/
ATTACH;FMTTYPE=image/png:https://wearethequest.org/wp-content/uploads/2021/08/Hiking-Club-Monthly.png
END:VEVENT
BEGIN:VEVENT
DTSTART;TZID=America/Los_Angeles:20261212T090000
DTEND;TZID=America/Los_Angeles:20261212T103000
DTSTAMP:20260420T054909
CREATED:20250609T121747Z
LAST-MODIFIED:20250609T121747Z
UID:10006054-1797066000-1797071400@wearethequest.org
SUMMARY:Quest Hiking Club
DESCRIPTION:We’ll be meeting at 9:00am at the trailhead. Please click here for all the details!
URL:https://wearethequest.org/event/quest-hiking-club/2026-12-12/
ATTACH;FMTTYPE=image/png:https://wearethequest.org/wp-content/uploads/2021/08/Hiking-Club-Monthly.png
END:VEVENT
END:VCALENDAR