BEGIN:VCALENDAR
VERSION:2.0
PRODID:-//The Quest - ECPv6.15.20//NONSGML v1.0//EN
CALSCALE:GREGORIAN
METHOD:PUBLISH
X-WR-CALNAME:The Quest
X-ORIGINAL-URL:https://wearethequest.org
X-WR-CALDESC:Events for The Quest
REFRESH-INTERVAL;VALUE=DURATION:PT1H
X-Robots-Tag:noindex
X-PUBLISHED-TTL:PT1H
BEGIN:VTIMEZONE
TZID:America/Los_Angeles
BEGIN:DAYLIGHT
TZOFFSETFROM:-0800
TZOFFSETTO:-0700
TZNAME:PDT
DTSTART:20280312T100000
END:DAYLIGHT
BEGIN:STANDARD
TZOFFSETFROM:-0700
TZOFFSETTO:-0800
TZNAME:PST
DTSTART:20281105T090000
END:STANDARD
BEGIN:DAYLIGHT
TZOFFSETFROM:-0800
TZOFFSETTO:-0700
TZNAME:PDT
DTSTART:20290311T100000
END:DAYLIGHT
BEGIN:STANDARD
TZOFFSETFROM:-0700
TZOFFSETTO:-0800
TZNAME:PST
DTSTART:20291104T090000
END:STANDARD
BEGIN:DAYLIGHT
TZOFFSETFROM:-0800
TZOFFSETTO:-0700
TZNAME:PDT
DTSTART:20300310T100000
END:DAYLIGHT
BEGIN:STANDARD
TZOFFSETFROM:-0700
TZOFFSETTO:-0800
TZNAME:PST
DTSTART:20301103T090000
END:STANDARD
END:VTIMEZONE
BEGIN:VEVENT
DTSTART;TZID=America/Los_Angeles:20290401T120000
DTEND;TZID=America/Los_Angeles:20290401T140000
DTSTAMP:20260420T051035
CREATED:20251107T210527Z
LAST-MODIFIED:20260128T010631Z
UID:10006426-1869739200-1869746400@wearethequest.org
SUMMARY:Nourish the Community Food Pantry
DESCRIPTION:Beginning Sunday\, December 7\, from noon-2pm\, we will open our new “Nourish the Community” food pantry to whoever needs help with some additional groceries and personal care items. \nPlease bring donations to the church or contact Susan Kim.
URL:https://wearethequest.org/event/nourish-the-community-food-pantry/2029-04-01/
LOCATION:CA
ATTACH;FMTTYPE=image/jpeg:https://wearethequest.org/wp-content/uploads/2025/11/PANTRY-BANNER-6144-x-3072-px-scaled.jpg
END:VEVENT
BEGIN:VEVENT
DTSTART;TZID=America/Los_Angeles:20290331T090000
DTEND;TZID=America/Los_Angeles:20290331T100000
DTSTAMP:20260420T051035
CREATED:20260418T220000Z
LAST-MODIFIED:20260418T220000Z
UID:10007344-1869642000-1869645600@wearethequest.org
SUMMARY:Alcoholics Anonymous "Intimate Feelings" Meeting
DESCRIPTION:Our building hosts multiple 12-step and recovery groups throughout the week\, providing a consistent and trusted space for healing in our community. These groups are independent\, open to anyone who needs them\, and free to attend. \n***NOTE: This meeting is only open to women who identify as alcoholics. \nMore information about the Intimate Feelings Meeting here.
URL:https://wearethequest.org/event/alcoholics-anonymous-intimate-feelings-meeting/2029-03-31/
LOCATION:The Quest\, 1461 S. Novato Blvd.\, Novato\, CA\, 94947\, United States
ATTACH;FMTTYPE=image/jpeg:https://wearethequest.org/wp-content/uploads/2026/04/andrej-lisakov-c8oNXfeKbFA-unsplash-scaled.jpg
END:VEVENT
BEGIN:VEVENT
DTSTART;TZID=America/Los_Angeles:20290329T190000
DTEND;TZID=America/Los_Angeles:20290329T200000
DTSTAMP:20260420T051035
CREATED:20260418T220759Z
LAST-MODIFIED:20260418T220759Z
UID:10007604-1869505200-1869508800@wearethequest.org
SUMMARY:Novato Nar-Anon Meeting
DESCRIPTION:Our building hosts multiple 12-step and recovery groups throughout the week\, providing a consistent and trusted space for healing in our community. These groups are independent\, open to anyone who needs them\, and free to attend. \nMore information about the Novato Nar-Anon Meeting here.
URL:https://wearethequest.org/event/novato-nar-anon-meeting/2029-03-29/
LOCATION:The Quest\, 1461 S. Novato Blvd.\, Novato\, CA\, 94947\, United States
ATTACH;FMTTYPE=image/jpeg:https://wearethequest.org/wp-content/uploads/2026/04/getty-images-bh8QqUKIcPQ-unsplash-scaled.jpg
END:VEVENT
BEGIN:VEVENT
DTSTART;TZID=America/Los_Angeles:20290329T183000
DTEND;TZID=America/Los_Angeles:20290329T193000
DTSTAMP:20260420T051035
CREATED:20250824T193404Z
LAST-MODIFIED:20250824T193443Z
UID:10006151-1869503400-1869507000@wearethequest.org
SUMMARY:Prayer Team Meeting
DESCRIPTION:Every other Monday evening at 6:30pm PT\, Christine Reyes leads Questers in a time of sharing and prayer. All are welcome to join and pray together. Join the meeting by clicking here. Need prayer? Submit a prayer request here.
URL:https://wearethequest.org/event/prayer-team-meeting-2022-04-07-2022-06-16-2-2/2029-03-29/
LOCATION:CA
ATTACH;FMTTYPE=image/png:https://wearethequest.org/wp-content/uploads/2021/05/White-Polaroid-Frame-Photo-Instagram-Post-.png
END:VEVENT
BEGIN:VEVENT
DTSTART;TZID=America/Los_Angeles:20290326T183000
DTEND;TZID=America/Los_Angeles:20290326T193000
DTSTAMP:20260420T051035
CREATED:20260418T215306Z
LAST-MODIFIED:20260418T215306Z
UID:10007083-1869244200-1869247800@wearethequest.org
SUMMARY:Alcoholics Anonymous "Just Can't Wait 'til 8" Meeting
DESCRIPTION:Our building hosts multiple 12-step and recovery groups throughout the week\, providing a consistent and trusted space for healing in our community. These groups are independent\, open to anyone who needs them\, and free to attend. \nMore information about the Just Can’t Wait ’til 8 Meeting here.
URL:https://wearethequest.org/event/alcoholics-anonymous-just-cant-wait-til-8-meeting/2029-03-26/
LOCATION:The Quest\, 1461 S. Novato Blvd.\, Novato\, CA\, 94947\, United States
ATTACH;FMTTYPE=image/jpeg:https://wearethequest.org/wp-content/uploads/2026/04/getty-images-PYXT4F1gAMg-unsplash-scaled.jpg
END:VEVENT
BEGIN:VEVENT
DTSTART;TZID=America/Los_Angeles:20290326T120000
DTEND;TZID=America/Los_Angeles:20290326T130000
DTSTAMP:20260420T051035
CREATED:20260418T215009Z
LAST-MODIFIED:20260418T215009Z
UID:10006822-1869220800-1869224400@wearethequest.org
SUMMARY:Alcoholics Anonymous "Monday Nooners" Meeting
DESCRIPTION:Our building hosts multiple 12-step and recovery groups throughout the week\, providing a consistent and trusted space for healing in our community. These groups are independent\, open to anyone who needs them\, and free to attend. \nMore information about the Monday Nooners Meeting here.
URL:https://wearethequest.org/event/alcoholics-anonymous-monday-nooners-meeting/2029-03-26/
LOCATION:The Quest\, 1461 S. Novato Blvd.\, Novato\, CA\, 94947\, United States
ATTACH;FMTTYPE=image/jpeg:https://wearethequest.org/wp-content/uploads/2026/04/getty-images-PYXT4F1gAMg-unsplash-scaled.jpg
END:VEVENT
BEGIN:VEVENT
DTSTART;TZID=America/Los_Angeles:20290325T120000
DTEND;TZID=America/Los_Angeles:20290325T140000
DTSTAMP:20260420T051035
CREATED:20251107T210527Z
LAST-MODIFIED:20260128T010631Z
UID:10006425-1869134400-1869141600@wearethequest.org
SUMMARY:Nourish the Community Food Pantry
DESCRIPTION:Beginning Sunday\, December 7\, from noon-2pm\, we will open our new “Nourish the Community” food pantry to whoever needs help with some additional groceries and personal care items. \nPlease bring donations to the church or contact Susan Kim.
URL:https://wearethequest.org/event/nourish-the-community-food-pantry/2029-03-25/
LOCATION:CA
ATTACH;FMTTYPE=image/jpeg:https://wearethequest.org/wp-content/uploads/2025/11/PANTRY-BANNER-6144-x-3072-px-scaled.jpg
END:VEVENT
BEGIN:VEVENT
DTSTART;TZID=America/Los_Angeles:20290324T090000
DTEND;TZID=America/Los_Angeles:20290324T100000
DTSTAMP:20260420T051035
CREATED:20260418T220000Z
LAST-MODIFIED:20260418T220000Z
UID:10007343-1869037200-1869040800@wearethequest.org
SUMMARY:Alcoholics Anonymous "Intimate Feelings" Meeting
DESCRIPTION:Our building hosts multiple 12-step and recovery groups throughout the week\, providing a consistent and trusted space for healing in our community. These groups are independent\, open to anyone who needs them\, and free to attend. \n***NOTE: This meeting is only open to women who identify as alcoholics. \nMore information about the Intimate Feelings Meeting here.
URL:https://wearethequest.org/event/alcoholics-anonymous-intimate-feelings-meeting/2029-03-24/
LOCATION:The Quest\, 1461 S. Novato Blvd.\, Novato\, CA\, 94947\, United States
ATTACH;FMTTYPE=image/jpeg:https://wearethequest.org/wp-content/uploads/2026/04/andrej-lisakov-c8oNXfeKbFA-unsplash-scaled.jpg
END:VEVENT
BEGIN:VEVENT
DTSTART;TZID=America/Los_Angeles:20290322T190000
DTEND;TZID=America/Los_Angeles:20290322T200000
DTSTAMP:20260420T051035
CREATED:20260418T220759Z
LAST-MODIFIED:20260418T220759Z
UID:10007603-1868900400-1868904000@wearethequest.org
SUMMARY:Novato Nar-Anon Meeting
DESCRIPTION:Our building hosts multiple 12-step and recovery groups throughout the week\, providing a consistent and trusted space for healing in our community. These groups are independent\, open to anyone who needs them\, and free to attend. \nMore information about the Novato Nar-Anon Meeting here.
URL:https://wearethequest.org/event/novato-nar-anon-meeting/2029-03-22/
LOCATION:The Quest\, 1461 S. Novato Blvd.\, Novato\, CA\, 94947\, United States
ATTACH;FMTTYPE=image/jpeg:https://wearethequest.org/wp-content/uploads/2026/04/getty-images-bh8QqUKIcPQ-unsplash-scaled.jpg
END:VEVENT
BEGIN:VEVENT
DTSTART;TZID=America/Los_Angeles:20290321T183000
DTEND;TZID=America/Los_Angeles:20290321T200000
DTSTAMP:20260420T051035
CREATED:20260128T010837Z
LAST-MODIFIED:20260128T013015Z
UID:10006562-1868812200-1868817600@wearethequest.org
SUMMARY:Food + Faith
DESCRIPTION:Join us every first and third Wednesday evening at 6:30pm for Food + Faith. You can pick up food for yourself from wherever you’d like or even bring it from home. \nCo-pastor Matt Nightingale brings a spiritual conversation prompt\, and we enjoy food and fellowship together in the church building. See you there!
URL:https://wearethequest.org/event/food-faith-2-2/2029-03-21/
LOCATION:The Quest\, 1461 S. Novato Blvd.\, Novato\, CA\, 94947\, United States
ATTACH;FMTTYPE=image/png:https://wearethequest.org/wp-content/uploads/2021/12/Green-Fresh-Healthy-Food-Instagram-Post-1.png
END:VEVENT
BEGIN:VEVENT
DTSTART;TZID=America/Los_Angeles:20290319T183000
DTEND;TZID=America/Los_Angeles:20290319T193000
DTSTAMP:20260420T051035
CREATED:20260418T215306Z
LAST-MODIFIED:20260418T215306Z
UID:10007082-1868639400-1868643000@wearethequest.org
SUMMARY:Alcoholics Anonymous "Just Can't Wait 'til 8" Meeting
DESCRIPTION:Our building hosts multiple 12-step and recovery groups throughout the week\, providing a consistent and trusted space for healing in our community. These groups are independent\, open to anyone who needs them\, and free to attend. \nMore information about the Just Can’t Wait ’til 8 Meeting here.
URL:https://wearethequest.org/event/alcoholics-anonymous-just-cant-wait-til-8-meeting/2029-03-19/
LOCATION:The Quest\, 1461 S. Novato Blvd.\, Novato\, CA\, 94947\, United States
ATTACH;FMTTYPE=image/jpeg:https://wearethequest.org/wp-content/uploads/2026/04/getty-images-PYXT4F1gAMg-unsplash-scaled.jpg
END:VEVENT
BEGIN:VEVENT
DTSTART;TZID=America/Los_Angeles:20290319T120000
DTEND;TZID=America/Los_Angeles:20290319T130000
DTSTAMP:20260420T051035
CREATED:20260418T215009Z
LAST-MODIFIED:20260418T215009Z
UID:10006821-1868616000-1868619600@wearethequest.org
SUMMARY:Alcoholics Anonymous "Monday Nooners" Meeting
DESCRIPTION:Our building hosts multiple 12-step and recovery groups throughout the week\, providing a consistent and trusted space for healing in our community. These groups are independent\, open to anyone who needs them\, and free to attend. \nMore information about the Monday Nooners Meeting here.
URL:https://wearethequest.org/event/alcoholics-anonymous-monday-nooners-meeting/2029-03-19/
LOCATION:The Quest\, 1461 S. Novato Blvd.\, Novato\, CA\, 94947\, United States
ATTACH;FMTTYPE=image/jpeg:https://wearethequest.org/wp-content/uploads/2026/04/getty-images-PYXT4F1gAMg-unsplash-scaled.jpg
END:VEVENT
BEGIN:VEVENT
DTSTART;TZID=America/Los_Angeles:20290318T120000
DTEND;TZID=America/Los_Angeles:20290318T140000
DTSTAMP:20260420T051035
CREATED:20251107T210527Z
LAST-MODIFIED:20260128T010631Z
UID:10006424-1868529600-1868536800@wearethequest.org
SUMMARY:Nourish the Community Food Pantry
DESCRIPTION:Beginning Sunday\, December 7\, from noon-2pm\, we will open our new “Nourish the Community” food pantry to whoever needs help with some additional groceries and personal care items. \nPlease bring donations to the church or contact Susan Kim.
URL:https://wearethequest.org/event/nourish-the-community-food-pantry/2029-03-18/
LOCATION:CA
ATTACH;FMTTYPE=image/jpeg:https://wearethequest.org/wp-content/uploads/2025/11/PANTRY-BANNER-6144-x-3072-px-scaled.jpg
END:VEVENT
BEGIN:VEVENT
DTSTART;TZID=America/Los_Angeles:20290317T090000
DTEND;TZID=America/Los_Angeles:20290317T100000
DTSTAMP:20260420T051035
CREATED:20260418T220000Z
LAST-MODIFIED:20260418T220000Z
UID:10007342-1868432400-1868436000@wearethequest.org
SUMMARY:Alcoholics Anonymous "Intimate Feelings" Meeting
DESCRIPTION:Our building hosts multiple 12-step and recovery groups throughout the week\, providing a consistent and trusted space for healing in our community. These groups are independent\, open to anyone who needs them\, and free to attend. \n***NOTE: This meeting is only open to women who identify as alcoholics. \nMore information about the Intimate Feelings Meeting here.
URL:https://wearethequest.org/event/alcoholics-anonymous-intimate-feelings-meeting/2029-03-17/
LOCATION:The Quest\, 1461 S. Novato Blvd.\, Novato\, CA\, 94947\, United States
ATTACH;FMTTYPE=image/jpeg:https://wearethequest.org/wp-content/uploads/2026/04/andrej-lisakov-c8oNXfeKbFA-unsplash-scaled.jpg
END:VEVENT
BEGIN:VEVENT
DTSTART;TZID=America/Los_Angeles:20290315T190000
DTEND;TZID=America/Los_Angeles:20290315T200000
DTSTAMP:20260420T051035
CREATED:20260418T220759Z
LAST-MODIFIED:20260418T220759Z
UID:10007602-1868295600-1868299200@wearethequest.org
SUMMARY:Novato Nar-Anon Meeting
DESCRIPTION:Our building hosts multiple 12-step and recovery groups throughout the week\, providing a consistent and trusted space for healing in our community. These groups are independent\, open to anyone who needs them\, and free to attend. \nMore information about the Novato Nar-Anon Meeting here.
URL:https://wearethequest.org/event/novato-nar-anon-meeting/2029-03-15/
LOCATION:The Quest\, 1461 S. Novato Blvd.\, Novato\, CA\, 94947\, United States
ATTACH;FMTTYPE=image/jpeg:https://wearethequest.org/wp-content/uploads/2026/04/getty-images-bh8QqUKIcPQ-unsplash-scaled.jpg
END:VEVENT
BEGIN:VEVENT
DTSTART;TZID=America/Los_Angeles:20290315T183000
DTEND;TZID=America/Los_Angeles:20290315T193000
DTSTAMP:20260420T051035
CREATED:20250824T193404Z
LAST-MODIFIED:20250824T193443Z
UID:10006150-1868293800-1868297400@wearethequest.org
SUMMARY:Prayer Team Meeting
DESCRIPTION:Every other Monday evening at 6:30pm PT\, Christine Reyes leads Questers in a time of sharing and prayer. All are welcome to join and pray together. Join the meeting by clicking here. Need prayer? Submit a prayer request here.
URL:https://wearethequest.org/event/prayer-team-meeting-2022-04-07-2022-06-16-2-2/2029-03-15/
LOCATION:CA
ATTACH;FMTTYPE=image/png:https://wearethequest.org/wp-content/uploads/2021/05/White-Polaroid-Frame-Photo-Instagram-Post-.png
END:VEVENT
BEGIN:VEVENT
DTSTART;TZID=America/Los_Angeles:20290312T183000
DTEND;TZID=America/Los_Angeles:20290312T193000
DTSTAMP:20260420T051035
CREATED:20260418T215306Z
LAST-MODIFIED:20260418T215306Z
UID:10007081-1868034600-1868038200@wearethequest.org
SUMMARY:Alcoholics Anonymous "Just Can't Wait 'til 8" Meeting
DESCRIPTION:Our building hosts multiple 12-step and recovery groups throughout the week\, providing a consistent and trusted space for healing in our community. These groups are independent\, open to anyone who needs them\, and free to attend. \nMore information about the Just Can’t Wait ’til 8 Meeting here.
URL:https://wearethequest.org/event/alcoholics-anonymous-just-cant-wait-til-8-meeting/2029-03-12/
LOCATION:The Quest\, 1461 S. Novato Blvd.\, Novato\, CA\, 94947\, United States
ATTACH;FMTTYPE=image/jpeg:https://wearethequest.org/wp-content/uploads/2026/04/getty-images-PYXT4F1gAMg-unsplash-scaled.jpg
END:VEVENT
BEGIN:VEVENT
DTSTART;TZID=America/Los_Angeles:20290312T120000
DTEND;TZID=America/Los_Angeles:20290312T130000
DTSTAMP:20260420T051035
CREATED:20260418T215009Z
LAST-MODIFIED:20260418T215009Z
UID:10006820-1868011200-1868014800@wearethequest.org
SUMMARY:Alcoholics Anonymous "Monday Nooners" Meeting
DESCRIPTION:Our building hosts multiple 12-step and recovery groups throughout the week\, providing a consistent and trusted space for healing in our community. These groups are independent\, open to anyone who needs them\, and free to attend. \nMore information about the Monday Nooners Meeting here.
URL:https://wearethequest.org/event/alcoholics-anonymous-monday-nooners-meeting/2029-03-12/
LOCATION:The Quest\, 1461 S. Novato Blvd.\, Novato\, CA\, 94947\, United States
ATTACH;FMTTYPE=image/jpeg:https://wearethequest.org/wp-content/uploads/2026/04/getty-images-PYXT4F1gAMg-unsplash-scaled.jpg
END:VEVENT
BEGIN:VEVENT
DTSTART;TZID=America/Los_Angeles:20290311T120000
DTEND;TZID=America/Los_Angeles:20290311T140000
DTSTAMP:20260420T051035
CREATED:20251107T210527Z
LAST-MODIFIED:20260128T010631Z
UID:10006423-1867924800-1867932000@wearethequest.org
SUMMARY:Nourish the Community Food Pantry
DESCRIPTION:Beginning Sunday\, December 7\, from noon-2pm\, we will open our new “Nourish the Community” food pantry to whoever needs help with some additional groceries and personal care items. \nPlease bring donations to the church or contact Susan Kim.
URL:https://wearethequest.org/event/nourish-the-community-food-pantry/2029-03-11/
LOCATION:CA
ATTACH;FMTTYPE=image/jpeg:https://wearethequest.org/wp-content/uploads/2025/11/PANTRY-BANNER-6144-x-3072-px-scaled.jpg
END:VEVENT
BEGIN:VEVENT
DTSTART;TZID=America/Los_Angeles:20290310T090000
DTEND;TZID=America/Los_Angeles:20290310T100000
DTSTAMP:20260420T051035
CREATED:20260418T220000Z
LAST-MODIFIED:20260418T220000Z
UID:10007341-1867827600-1867831200@wearethequest.org
SUMMARY:Alcoholics Anonymous "Intimate Feelings" Meeting
DESCRIPTION:Our building hosts multiple 12-step and recovery groups throughout the week\, providing a consistent and trusted space for healing in our community. These groups are independent\, open to anyone who needs them\, and free to attend. \n***NOTE: This meeting is only open to women who identify as alcoholics. \nMore information about the Intimate Feelings Meeting here.
URL:https://wearethequest.org/event/alcoholics-anonymous-intimate-feelings-meeting/2029-03-10/
LOCATION:The Quest\, 1461 S. Novato Blvd.\, Novato\, CA\, 94947\, United States
ATTACH;FMTTYPE=image/jpeg:https://wearethequest.org/wp-content/uploads/2026/04/andrej-lisakov-c8oNXfeKbFA-unsplash-scaled.jpg
END:VEVENT
BEGIN:VEVENT
DTSTART;TZID=America/Los_Angeles:20290308T190000
DTEND;TZID=America/Los_Angeles:20290308T200000
DTSTAMP:20260420T051035
CREATED:20260418T220759Z
LAST-MODIFIED:20260418T220759Z
UID:10007601-1867690800-1867694400@wearethequest.org
SUMMARY:Novato Nar-Anon Meeting
DESCRIPTION:Our building hosts multiple 12-step and recovery groups throughout the week\, providing a consistent and trusted space for healing in our community. These groups are independent\, open to anyone who needs them\, and free to attend. \nMore information about the Novato Nar-Anon Meeting here.
URL:https://wearethequest.org/event/novato-nar-anon-meeting/2029-03-08/
LOCATION:The Quest\, 1461 S. Novato Blvd.\, Novato\, CA\, 94947\, United States
ATTACH;FMTTYPE=image/jpeg:https://wearethequest.org/wp-content/uploads/2026/04/getty-images-bh8QqUKIcPQ-unsplash-scaled.jpg
END:VEVENT
BEGIN:VEVENT
DTSTART;TZID=America/Los_Angeles:20290307T183000
DTEND;TZID=America/Los_Angeles:20290307T200000
DTSTAMP:20260420T051035
CREATED:20260128T013111Z
LAST-MODIFIED:20260128T014022Z
UID:10006623-1867602600-1867608000@wearethequest.org
SUMMARY:Food + Faith
DESCRIPTION:Join us every first and third Wednesday evening at 6:30pm for Food + Faith. You can pick up food for yourself from wherever you’d like or even bring it from home. \nCo-pastor Matt Nightingale brings a spiritual conversation prompt\, and we enjoy food and fellowship together in the church building. See you there!
URL:https://wearethequest.org/event/food-faith-3/2029-03-07/
LOCATION:The Quest\, 1461 S. Novato Blvd.\, Novato\, CA\, 94947\, United States
ATTACH;FMTTYPE=image/png:https://wearethequest.org/wp-content/uploads/2021/12/Green-Fresh-Healthy-Food-Instagram-Post-1.png
END:VEVENT
BEGIN:VEVENT
DTSTART;TZID=America/Los_Angeles:20290305T183000
DTEND;TZID=America/Los_Angeles:20290305T193000
DTSTAMP:20260420T051035
CREATED:20260418T215306Z
LAST-MODIFIED:20260418T215306Z
UID:10007080-1867429800-1867433400@wearethequest.org
SUMMARY:Alcoholics Anonymous "Just Can't Wait 'til 8" Meeting
DESCRIPTION:Our building hosts multiple 12-step and recovery groups throughout the week\, providing a consistent and trusted space for healing in our community. These groups are independent\, open to anyone who needs them\, and free to attend. \nMore information about the Just Can’t Wait ’til 8 Meeting here.
URL:https://wearethequest.org/event/alcoholics-anonymous-just-cant-wait-til-8-meeting/2029-03-05/
LOCATION:The Quest\, 1461 S. Novato Blvd.\, Novato\, CA\, 94947\, United States
ATTACH;FMTTYPE=image/jpeg:https://wearethequest.org/wp-content/uploads/2026/04/getty-images-PYXT4F1gAMg-unsplash-scaled.jpg
END:VEVENT
BEGIN:VEVENT
DTSTART;TZID=America/Los_Angeles:20290305T120000
DTEND;TZID=America/Los_Angeles:20290305T130000
DTSTAMP:20260420T051035
CREATED:20260418T215009Z
LAST-MODIFIED:20260418T215009Z
UID:10006819-1867406400-1867410000@wearethequest.org
SUMMARY:Alcoholics Anonymous "Monday Nooners" Meeting
DESCRIPTION:Our building hosts multiple 12-step and recovery groups throughout the week\, providing a consistent and trusted space for healing in our community. These groups are independent\, open to anyone who needs them\, and free to attend. \nMore information about the Monday Nooners Meeting here.
URL:https://wearethequest.org/event/alcoholics-anonymous-monday-nooners-meeting/2029-03-05/
LOCATION:The Quest\, 1461 S. Novato Blvd.\, Novato\, CA\, 94947\, United States
ATTACH;FMTTYPE=image/jpeg:https://wearethequest.org/wp-content/uploads/2026/04/getty-images-PYXT4F1gAMg-unsplash-scaled.jpg
END:VEVENT
BEGIN:VEVENT
DTSTART;TZID=America/Los_Angeles:20290304T120000
DTEND;TZID=America/Los_Angeles:20290304T140000
DTSTAMP:20260420T051035
CREATED:20251107T210527Z
LAST-MODIFIED:20260128T010631Z
UID:10006422-1867320000-1867327200@wearethequest.org
SUMMARY:Nourish the Community Food Pantry
DESCRIPTION:Beginning Sunday\, December 7\, from noon-2pm\, we will open our new “Nourish the Community” food pantry to whoever needs help with some additional groceries and personal care items. \nPlease bring donations to the church or contact Susan Kim.
URL:https://wearethequest.org/event/nourish-the-community-food-pantry/2029-03-04/
LOCATION:CA
ATTACH;FMTTYPE=image/jpeg:https://wearethequest.org/wp-content/uploads/2025/11/PANTRY-BANNER-6144-x-3072-px-scaled.jpg
END:VEVENT
BEGIN:VEVENT
DTSTART;TZID=America/Los_Angeles:20290303T090000
DTEND;TZID=America/Los_Angeles:20290303T100000
DTSTAMP:20260420T051035
CREATED:20260418T220000Z
LAST-MODIFIED:20260418T220000Z
UID:10007340-1867222800-1867226400@wearethequest.org
SUMMARY:Alcoholics Anonymous "Intimate Feelings" Meeting
DESCRIPTION:Our building hosts multiple 12-step and recovery groups throughout the week\, providing a consistent and trusted space for healing in our community. These groups are independent\, open to anyone who needs them\, and free to attend. \n***NOTE: This meeting is only open to women who identify as alcoholics. \nMore information about the Intimate Feelings Meeting here.
URL:https://wearethequest.org/event/alcoholics-anonymous-intimate-feelings-meeting/2029-03-03/
LOCATION:The Quest\, 1461 S. Novato Blvd.\, Novato\, CA\, 94947\, United States
ATTACH;FMTTYPE=image/jpeg:https://wearethequest.org/wp-content/uploads/2026/04/andrej-lisakov-c8oNXfeKbFA-unsplash-scaled.jpg
END:VEVENT
BEGIN:VEVENT
DTSTART;TZID=America/Los_Angeles:20290301T190000
DTEND;TZID=America/Los_Angeles:20290301T200000
DTSTAMP:20260420T051036
CREATED:20260418T220759Z
LAST-MODIFIED:20260418T220759Z
UID:10007600-1867086000-1867089600@wearethequest.org
SUMMARY:Novato Nar-Anon Meeting
DESCRIPTION:Our building hosts multiple 12-step and recovery groups throughout the week\, providing a consistent and trusted space for healing in our community. These groups are independent\, open to anyone who needs them\, and free to attend. \nMore information about the Novato Nar-Anon Meeting here.
URL:https://wearethequest.org/event/novato-nar-anon-meeting/2029-03-01/
LOCATION:The Quest\, 1461 S. Novato Blvd.\, Novato\, CA\, 94947\, United States
ATTACH;FMTTYPE=image/jpeg:https://wearethequest.org/wp-content/uploads/2026/04/getty-images-bh8QqUKIcPQ-unsplash-scaled.jpg
END:VEVENT
BEGIN:VEVENT
DTSTART;TZID=America/Los_Angeles:20290301T183000
DTEND;TZID=America/Los_Angeles:20290301T193000
DTSTAMP:20260420T051036
CREATED:20250824T193404Z
LAST-MODIFIED:20250824T193443Z
UID:10006149-1867084200-1867087800@wearethequest.org
SUMMARY:Prayer Team Meeting
DESCRIPTION:Every other Monday evening at 6:30pm PT\, Christine Reyes leads Questers in a time of sharing and prayer. All are welcome to join and pray together. Join the meeting by clicking here. Need prayer? Submit a prayer request here.
URL:https://wearethequest.org/event/prayer-team-meeting-2022-04-07-2022-06-16-2-2/2029-03-01/
LOCATION:CA
ATTACH;FMTTYPE=image/png:https://wearethequest.org/wp-content/uploads/2021/05/White-Polaroid-Frame-Photo-Instagram-Post-.png
END:VEVENT
BEGIN:VEVENT
DTSTART;TZID=America/Los_Angeles:20290226T183000
DTEND;TZID=America/Los_Angeles:20290226T193000
DTSTAMP:20260420T051036
CREATED:20260418T215306Z
LAST-MODIFIED:20260418T215306Z
UID:10007079-1866825000-1866828600@wearethequest.org
SUMMARY:Alcoholics Anonymous "Just Can't Wait 'til 8" Meeting
DESCRIPTION:Our building hosts multiple 12-step and recovery groups throughout the week\, providing a consistent and trusted space for healing in our community. These groups are independent\, open to anyone who needs them\, and free to attend. \nMore information about the Just Can’t Wait ’til 8 Meeting here.
URL:https://wearethequest.org/event/alcoholics-anonymous-just-cant-wait-til-8-meeting/2029-02-26/
LOCATION:The Quest\, 1461 S. Novato Blvd.\, Novato\, CA\, 94947\, United States
ATTACH;FMTTYPE=image/jpeg:https://wearethequest.org/wp-content/uploads/2026/04/getty-images-PYXT4F1gAMg-unsplash-scaled.jpg
END:VEVENT
BEGIN:VEVENT
DTSTART;TZID=America/Los_Angeles:20290226T120000
DTEND;TZID=America/Los_Angeles:20290226T130000
DTSTAMP:20260420T051036
CREATED:20260418T215009Z
LAST-MODIFIED:20260418T215009Z
UID:10006818-1866801600-1866805200@wearethequest.org
SUMMARY:Alcoholics Anonymous "Monday Nooners" Meeting
DESCRIPTION:Our building hosts multiple 12-step and recovery groups throughout the week\, providing a consistent and trusted space for healing in our community. These groups are independent\, open to anyone who needs them\, and free to attend. \nMore information about the Monday Nooners Meeting here.
URL:https://wearethequest.org/event/alcoholics-anonymous-monday-nooners-meeting/2029-02-26/
LOCATION:The Quest\, 1461 S. Novato Blvd.\, Novato\, CA\, 94947\, United States
ATTACH;FMTTYPE=image/jpeg:https://wearethequest.org/wp-content/uploads/2026/04/getty-images-PYXT4F1gAMg-unsplash-scaled.jpg
END:VEVENT
END:VCALENDAR