BEGIN:VCALENDAR
VERSION:2.0
PRODID:-//The Quest - ECPv6.15.20//NONSGML v1.0//EN
CALSCALE:GREGORIAN
METHOD:PUBLISH
X-WR-CALNAME:The Quest
X-ORIGINAL-URL:https://wearethequest.org
X-WR-CALDESC:Events for The Quest
REFRESH-INTERVAL;VALUE=DURATION:PT1H
X-Robots-Tag:noindex
X-PUBLISHED-TTL:PT1H
BEGIN:VTIMEZONE
TZID:America/Los_Angeles
BEGIN:DAYLIGHT
TZOFFSETFROM:-0800
TZOFFSETTO:-0700
TZNAME:PDT
DTSTART:20280312T100000
END:DAYLIGHT
BEGIN:STANDARD
TZOFFSETFROM:-0700
TZOFFSETTO:-0800
TZNAME:PST
DTSTART:20281105T090000
END:STANDARD
BEGIN:DAYLIGHT
TZOFFSETFROM:-0800
TZOFFSETTO:-0700
TZNAME:PDT
DTSTART:20290311T100000
END:DAYLIGHT
BEGIN:STANDARD
TZOFFSETFROM:-0700
TZOFFSETTO:-0800
TZNAME:PST
DTSTART:20291104T090000
END:STANDARD
BEGIN:DAYLIGHT
TZOFFSETFROM:-0800
TZOFFSETTO:-0700
TZNAME:PDT
DTSTART:20300310T100000
END:DAYLIGHT
BEGIN:STANDARD
TZOFFSETFROM:-0700
TZOFFSETTO:-0800
TZNAME:PST
DTSTART:20301103T090000
END:STANDARD
END:VTIMEZONE
BEGIN:VEVENT
DTSTART;TZID=America/Los_Angeles:20290723T120000
DTEND;TZID=America/Los_Angeles:20290723T130000
DTSTAMP:20260420T093718
CREATED:20260418T215009Z
LAST-MODIFIED:20260418T215009Z
UID:10006839-1879502400-1879506000@wearethequest.org
SUMMARY:Alcoholics Anonymous "Monday Nooners" Meeting
DESCRIPTION:Our building hosts multiple 12-step and recovery groups throughout the week\, providing a consistent and trusted space for healing in our community. These groups are independent\, open to anyone who needs them\, and free to attend. \nMore information about the Monday Nooners Meeting here.
URL:https://wearethequest.org/event/alcoholics-anonymous-monday-nooners-meeting/2029-07-23/
LOCATION:The Quest\, 1461 S. Novato Blvd.\, Novato\, CA\, 94947\, United States
ATTACH;FMTTYPE=image/jpeg:https://wearethequest.org/wp-content/uploads/2026/04/getty-images-PYXT4F1gAMg-unsplash-scaled.jpg
END:VEVENT
BEGIN:VEVENT
DTSTART;TZID=America/Los_Angeles:20290723T183000
DTEND;TZID=America/Los_Angeles:20290723T193000
DTSTAMP:20260420T093718
CREATED:20260418T215306Z
LAST-MODIFIED:20260418T215306Z
UID:10007100-1879525800-1879529400@wearethequest.org
SUMMARY:Alcoholics Anonymous "Just Can't Wait 'til 8" Meeting
DESCRIPTION:Our building hosts multiple 12-step and recovery groups throughout the week\, providing a consistent and trusted space for healing in our community. These groups are independent\, open to anyone who needs them\, and free to attend. \nMore information about the Just Can’t Wait ’til 8 Meeting here.
URL:https://wearethequest.org/event/alcoholics-anonymous-just-cant-wait-til-8-meeting/2029-07-23/
LOCATION:The Quest\, 1461 S. Novato Blvd.\, Novato\, CA\, 94947\, United States
ATTACH;FMTTYPE=image/jpeg:https://wearethequest.org/wp-content/uploads/2026/04/getty-images-PYXT4F1gAMg-unsplash-scaled.jpg
END:VEVENT
BEGIN:VEVENT
DTSTART;TZID=America/Los_Angeles:20290726T190000
DTEND;TZID=America/Los_Angeles:20290726T200000
DTSTAMP:20260420T093718
CREATED:20260418T220759Z
LAST-MODIFIED:20260418T220759Z
UID:10007621-1879786800-1879790400@wearethequest.org
SUMMARY:Novato Nar-Anon Meeting
DESCRIPTION:Our building hosts multiple 12-step and recovery groups throughout the week\, providing a consistent and trusted space for healing in our community. These groups are independent\, open to anyone who needs them\, and free to attend. \nMore information about the Novato Nar-Anon Meeting here.
URL:https://wearethequest.org/event/novato-nar-anon-meeting/2029-07-26/
LOCATION:The Quest\, 1461 S. Novato Blvd.\, Novato\, CA\, 94947\, United States
ATTACH;FMTTYPE=image/jpeg:https://wearethequest.org/wp-content/uploads/2026/04/getty-images-bh8QqUKIcPQ-unsplash-scaled.jpg
END:VEVENT
BEGIN:VEVENT
DTSTART;TZID=America/Los_Angeles:20290728T090000
DTEND;TZID=America/Los_Angeles:20290728T100000
DTSTAMP:20260420T093718
CREATED:20260418T220000Z
LAST-MODIFIED:20260418T220000Z
UID:10007361-1879923600-1879927200@wearethequest.org
SUMMARY:Alcoholics Anonymous "Intimate Feelings" Meeting
DESCRIPTION:Our building hosts multiple 12-step and recovery groups throughout the week\, providing a consistent and trusted space for healing in our community. These groups are independent\, open to anyone who needs them\, and free to attend. \n***NOTE: This meeting is only open to women who identify as alcoholics. \nMore information about the Intimate Feelings Meeting here.
URL:https://wearethequest.org/event/alcoholics-anonymous-intimate-feelings-meeting/2029-07-28/
LOCATION:The Quest\, 1461 S. Novato Blvd.\, Novato\, CA\, 94947\, United States
ATTACH;FMTTYPE=image/jpeg:https://wearethequest.org/wp-content/uploads/2026/04/andrej-lisakov-c8oNXfeKbFA-unsplash-scaled.jpg
END:VEVENT
BEGIN:VEVENT
DTSTART;TZID=America/Los_Angeles:20290729T120000
DTEND;TZID=America/Los_Angeles:20290729T140000
DTSTAMP:20260420T093718
CREATED:20251107T210527Z
LAST-MODIFIED:20260128T010631Z
UID:10006443-1880020800-1880028000@wearethequest.org
SUMMARY:Nourish the Community Food Pantry
DESCRIPTION:Beginning Sunday\, December 7\, from noon-2pm\, we will open our new “Nourish the Community” food pantry to whoever needs help with some additional groceries and personal care items. \nPlease bring donations to the church or contact Susan Kim.
URL:https://wearethequest.org/event/nourish-the-community-food-pantry/2029-07-29/
LOCATION:CA
ATTACH;FMTTYPE=image/jpeg:https://wearethequest.org/wp-content/uploads/2025/11/PANTRY-BANNER-6144-x-3072-px-scaled.jpg
END:VEVENT
BEGIN:VEVENT
DTSTART;TZID=America/Los_Angeles:20290730T120000
DTEND;TZID=America/Los_Angeles:20290730T130000
DTSTAMP:20260420T093718
CREATED:20260418T215009Z
LAST-MODIFIED:20260418T215009Z
UID:10006840-1880107200-1880110800@wearethequest.org
SUMMARY:Alcoholics Anonymous "Monday Nooners" Meeting
DESCRIPTION:Our building hosts multiple 12-step and recovery groups throughout the week\, providing a consistent and trusted space for healing in our community. These groups are independent\, open to anyone who needs them\, and free to attend. \nMore information about the Monday Nooners Meeting here.
URL:https://wearethequest.org/event/alcoholics-anonymous-monday-nooners-meeting/2029-07-30/
LOCATION:The Quest\, 1461 S. Novato Blvd.\, Novato\, CA\, 94947\, United States
ATTACH;FMTTYPE=image/jpeg:https://wearethequest.org/wp-content/uploads/2026/04/getty-images-PYXT4F1gAMg-unsplash-scaled.jpg
END:VEVENT
BEGIN:VEVENT
DTSTART;TZID=America/Los_Angeles:20290730T183000
DTEND;TZID=America/Los_Angeles:20290730T193000
DTSTAMP:20260420T093718
CREATED:20260418T215306Z
LAST-MODIFIED:20260418T215306Z
UID:10007101-1880130600-1880134200@wearethequest.org
SUMMARY:Alcoholics Anonymous "Just Can't Wait 'til 8" Meeting
DESCRIPTION:Our building hosts multiple 12-step and recovery groups throughout the week\, providing a consistent and trusted space for healing in our community. These groups are independent\, open to anyone who needs them\, and free to attend. \nMore information about the Just Can’t Wait ’til 8 Meeting here.
URL:https://wearethequest.org/event/alcoholics-anonymous-just-cant-wait-til-8-meeting/2029-07-30/
LOCATION:The Quest\, 1461 S. Novato Blvd.\, Novato\, CA\, 94947\, United States
ATTACH;FMTTYPE=image/jpeg:https://wearethequest.org/wp-content/uploads/2026/04/getty-images-PYXT4F1gAMg-unsplash-scaled.jpg
END:VEVENT
BEGIN:VEVENT
DTSTART;TZID=America/Los_Angeles:20290801T183000
DTEND;TZID=America/Los_Angeles:20290801T200000
DTSTAMP:20260420T093718
CREATED:20260128T013111Z
LAST-MODIFIED:20260128T014022Z
UID:10006628-1880303400-1880308800@wearethequest.org
SUMMARY:Food + Faith
DESCRIPTION:Join us every first and third Wednesday evening at 6:30pm for Food + Faith. You can pick up food for yourself from wherever you’d like or even bring it from home. \nCo-pastor Matt Nightingale brings a spiritual conversation prompt\, and we enjoy food and fellowship together in the church building. See you there!
URL:https://wearethequest.org/event/food-faith-3/2029-08-01/
LOCATION:The Quest\, 1461 S. Novato Blvd.\, Novato\, CA\, 94947\, United States
ATTACH;FMTTYPE=image/png:https://wearethequest.org/wp-content/uploads/2021/12/Green-Fresh-Healthy-Food-Instagram-Post-1.png
END:VEVENT
BEGIN:VEVENT
DTSTART;TZID=America/Los_Angeles:20290802T183000
DTEND;TZID=America/Los_Angeles:20290802T193000
DTSTAMP:20260420T093718
CREATED:20250824T193404Z
LAST-MODIFIED:20250824T193443Z
UID:10006160-1880389800-1880393400@wearethequest.org
SUMMARY:Prayer Team Meeting
DESCRIPTION:Every other Monday evening at 6:30pm PT\, Christine Reyes leads Questers in a time of sharing and prayer. All are welcome to join and pray together. Join the meeting by clicking here. Need prayer? Submit a prayer request here.
URL:https://wearethequest.org/event/prayer-team-meeting-2022-04-07-2022-06-16-2-2/2029-08-02/
LOCATION:CA
ATTACH;FMTTYPE=image/png:https://wearethequest.org/wp-content/uploads/2021/05/White-Polaroid-Frame-Photo-Instagram-Post-.png
END:VEVENT
BEGIN:VEVENT
DTSTART;TZID=America/Los_Angeles:20290802T190000
DTEND;TZID=America/Los_Angeles:20290802T200000
DTSTAMP:20260420T093718
CREATED:20260418T220759Z
LAST-MODIFIED:20260418T220759Z
UID:10007622-1880391600-1880395200@wearethequest.org
SUMMARY:Novato Nar-Anon Meeting
DESCRIPTION:Our building hosts multiple 12-step and recovery groups throughout the week\, providing a consistent and trusted space for healing in our community. These groups are independent\, open to anyone who needs them\, and free to attend. \nMore information about the Novato Nar-Anon Meeting here.
URL:https://wearethequest.org/event/novato-nar-anon-meeting/2029-08-02/
LOCATION:The Quest\, 1461 S. Novato Blvd.\, Novato\, CA\, 94947\, United States
ATTACH;FMTTYPE=image/jpeg:https://wearethequest.org/wp-content/uploads/2026/04/getty-images-bh8QqUKIcPQ-unsplash-scaled.jpg
END:VEVENT
BEGIN:VEVENT
DTSTART;TZID=America/Los_Angeles:20290804T090000
DTEND;TZID=America/Los_Angeles:20290804T100000
DTSTAMP:20260420T093718
CREATED:20260418T220000Z
LAST-MODIFIED:20260418T220000Z
UID:10007362-1880528400-1880532000@wearethequest.org
SUMMARY:Alcoholics Anonymous "Intimate Feelings" Meeting
DESCRIPTION:Our building hosts multiple 12-step and recovery groups throughout the week\, providing a consistent and trusted space for healing in our community. These groups are independent\, open to anyone who needs them\, and free to attend. \n***NOTE: This meeting is only open to women who identify as alcoholics. \nMore information about the Intimate Feelings Meeting here.
URL:https://wearethequest.org/event/alcoholics-anonymous-intimate-feelings-meeting/2029-08-04/
LOCATION:The Quest\, 1461 S. Novato Blvd.\, Novato\, CA\, 94947\, United States
ATTACH;FMTTYPE=image/jpeg:https://wearethequest.org/wp-content/uploads/2026/04/andrej-lisakov-c8oNXfeKbFA-unsplash-scaled.jpg
END:VEVENT
BEGIN:VEVENT
DTSTART;TZID=America/Los_Angeles:20290805T120000
DTEND;TZID=America/Los_Angeles:20290805T140000
DTSTAMP:20260420T093718
CREATED:20251107T210527Z
LAST-MODIFIED:20260128T010631Z
UID:10006444-1880625600-1880632800@wearethequest.org
SUMMARY:Nourish the Community Food Pantry
DESCRIPTION:Beginning Sunday\, December 7\, from noon-2pm\, we will open our new “Nourish the Community” food pantry to whoever needs help with some additional groceries and personal care items. \nPlease bring donations to the church or contact Susan Kim.
URL:https://wearethequest.org/event/nourish-the-community-food-pantry/2029-08-05/
LOCATION:CA
ATTACH;FMTTYPE=image/jpeg:https://wearethequest.org/wp-content/uploads/2025/11/PANTRY-BANNER-6144-x-3072-px-scaled.jpg
END:VEVENT
BEGIN:VEVENT
DTSTART;TZID=America/Los_Angeles:20290806T120000
DTEND;TZID=America/Los_Angeles:20290806T130000
DTSTAMP:20260420T093718
CREATED:20260418T215009Z
LAST-MODIFIED:20260418T215009Z
UID:10006841-1880712000-1880715600@wearethequest.org
SUMMARY:Alcoholics Anonymous "Monday Nooners" Meeting
DESCRIPTION:Our building hosts multiple 12-step and recovery groups throughout the week\, providing a consistent and trusted space for healing in our community. These groups are independent\, open to anyone who needs them\, and free to attend. \nMore information about the Monday Nooners Meeting here.
URL:https://wearethequest.org/event/alcoholics-anonymous-monday-nooners-meeting/2029-08-06/
LOCATION:The Quest\, 1461 S. Novato Blvd.\, Novato\, CA\, 94947\, United States
ATTACH;FMTTYPE=image/jpeg:https://wearethequest.org/wp-content/uploads/2026/04/getty-images-PYXT4F1gAMg-unsplash-scaled.jpg
END:VEVENT
BEGIN:VEVENT
DTSTART;TZID=America/Los_Angeles:20290806T183000
DTEND;TZID=America/Los_Angeles:20290806T193000
DTSTAMP:20260420T093718
CREATED:20260418T215306Z
LAST-MODIFIED:20260418T215306Z
UID:10007102-1880735400-1880739000@wearethequest.org
SUMMARY:Alcoholics Anonymous "Just Can't Wait 'til 8" Meeting
DESCRIPTION:Our building hosts multiple 12-step and recovery groups throughout the week\, providing a consistent and trusted space for healing in our community. These groups are independent\, open to anyone who needs them\, and free to attend. \nMore information about the Just Can’t Wait ’til 8 Meeting here.
URL:https://wearethequest.org/event/alcoholics-anonymous-just-cant-wait-til-8-meeting/2029-08-06/
LOCATION:The Quest\, 1461 S. Novato Blvd.\, Novato\, CA\, 94947\, United States
ATTACH;FMTTYPE=image/jpeg:https://wearethequest.org/wp-content/uploads/2026/04/getty-images-PYXT4F1gAMg-unsplash-scaled.jpg
END:VEVENT
BEGIN:VEVENT
DTSTART;TZID=America/Los_Angeles:20290809T190000
DTEND;TZID=America/Los_Angeles:20290809T200000
DTSTAMP:20260420T093718
CREATED:20260418T220759Z
LAST-MODIFIED:20260418T220759Z
UID:10007623-1880996400-1881000000@wearethequest.org
SUMMARY:Novato Nar-Anon Meeting
DESCRIPTION:Our building hosts multiple 12-step and recovery groups throughout the week\, providing a consistent and trusted space for healing in our community. These groups are independent\, open to anyone who needs them\, and free to attend. \nMore information about the Novato Nar-Anon Meeting here.
URL:https://wearethequest.org/event/novato-nar-anon-meeting/2029-08-09/
LOCATION:The Quest\, 1461 S. Novato Blvd.\, Novato\, CA\, 94947\, United States
ATTACH;FMTTYPE=image/jpeg:https://wearethequest.org/wp-content/uploads/2026/04/getty-images-bh8QqUKIcPQ-unsplash-scaled.jpg
END:VEVENT
BEGIN:VEVENT
DTSTART;TZID=America/Los_Angeles:20290811T090000
DTEND;TZID=America/Los_Angeles:20290811T100000
DTSTAMP:20260420T093718
CREATED:20260418T220000Z
LAST-MODIFIED:20260418T220000Z
UID:10007363-1881133200-1881136800@wearethequest.org
SUMMARY:Alcoholics Anonymous "Intimate Feelings" Meeting
DESCRIPTION:Our building hosts multiple 12-step and recovery groups throughout the week\, providing a consistent and trusted space for healing in our community. These groups are independent\, open to anyone who needs them\, and free to attend. \n***NOTE: This meeting is only open to women who identify as alcoholics. \nMore information about the Intimate Feelings Meeting here.
URL:https://wearethequest.org/event/alcoholics-anonymous-intimate-feelings-meeting/2029-08-11/
LOCATION:The Quest\, 1461 S. Novato Blvd.\, Novato\, CA\, 94947\, United States
ATTACH;FMTTYPE=image/jpeg:https://wearethequest.org/wp-content/uploads/2026/04/andrej-lisakov-c8oNXfeKbFA-unsplash-scaled.jpg
END:VEVENT
BEGIN:VEVENT
DTSTART;TZID=America/Los_Angeles:20290812T120000
DTEND;TZID=America/Los_Angeles:20290812T140000
DTSTAMP:20260420T093718
CREATED:20251107T210527Z
LAST-MODIFIED:20260128T010631Z
UID:10006445-1881230400-1881237600@wearethequest.org
SUMMARY:Nourish the Community Food Pantry
DESCRIPTION:Beginning Sunday\, December 7\, from noon-2pm\, we will open our new “Nourish the Community” food pantry to whoever needs help with some additional groceries and personal care items. \nPlease bring donations to the church or contact Susan Kim.
URL:https://wearethequest.org/event/nourish-the-community-food-pantry/2029-08-12/
LOCATION:CA
ATTACH;FMTTYPE=image/jpeg:https://wearethequest.org/wp-content/uploads/2025/11/PANTRY-BANNER-6144-x-3072-px-scaled.jpg
END:VEVENT
BEGIN:VEVENT
DTSTART;TZID=America/Los_Angeles:20290813T120000
DTEND;TZID=America/Los_Angeles:20290813T130000
DTSTAMP:20260420T093718
CREATED:20260418T215009Z
LAST-MODIFIED:20260418T215009Z
UID:10006842-1881316800-1881320400@wearethequest.org
SUMMARY:Alcoholics Anonymous "Monday Nooners" Meeting
DESCRIPTION:Our building hosts multiple 12-step and recovery groups throughout the week\, providing a consistent and trusted space for healing in our community. These groups are independent\, open to anyone who needs them\, and free to attend. \nMore information about the Monday Nooners Meeting here.
URL:https://wearethequest.org/event/alcoholics-anonymous-monday-nooners-meeting/2029-08-13/
LOCATION:The Quest\, 1461 S. Novato Blvd.\, Novato\, CA\, 94947\, United States
ATTACH;FMTTYPE=image/jpeg:https://wearethequest.org/wp-content/uploads/2026/04/getty-images-PYXT4F1gAMg-unsplash-scaled.jpg
END:VEVENT
BEGIN:VEVENT
DTSTART;TZID=America/Los_Angeles:20290813T183000
DTEND;TZID=America/Los_Angeles:20290813T193000
DTSTAMP:20260420T093718
CREATED:20260418T215306Z
LAST-MODIFIED:20260418T215306Z
UID:10007103-1881340200-1881343800@wearethequest.org
SUMMARY:Alcoholics Anonymous "Just Can't Wait 'til 8" Meeting
DESCRIPTION:Our building hosts multiple 12-step and recovery groups throughout the week\, providing a consistent and trusted space for healing in our community. These groups are independent\, open to anyone who needs them\, and free to attend. \nMore information about the Just Can’t Wait ’til 8 Meeting here.
URL:https://wearethequest.org/event/alcoholics-anonymous-just-cant-wait-til-8-meeting/2029-08-13/
LOCATION:The Quest\, 1461 S. Novato Blvd.\, Novato\, CA\, 94947\, United States
ATTACH;FMTTYPE=image/jpeg:https://wearethequest.org/wp-content/uploads/2026/04/getty-images-PYXT4F1gAMg-unsplash-scaled.jpg
END:VEVENT
BEGIN:VEVENT
DTSTART;TZID=America/Los_Angeles:20290815T183000
DTEND;TZID=America/Los_Angeles:20290815T200000
DTSTAMP:20260420T093718
CREATED:20260128T010837Z
LAST-MODIFIED:20260128T013015Z
UID:10006567-1881513000-1881518400@wearethequest.org
SUMMARY:Food + Faith
DESCRIPTION:Join us every first and third Wednesday evening at 6:30pm for Food + Faith. You can pick up food for yourself from wherever you’d like or even bring it from home. \nCo-pastor Matt Nightingale brings a spiritual conversation prompt\, and we enjoy food and fellowship together in the church building. See you there!
URL:https://wearethequest.org/event/food-faith-2-2/2029-08-15/
LOCATION:The Quest\, 1461 S. Novato Blvd.\, Novato\, CA\, 94947\, United States
ATTACH;FMTTYPE=image/png:https://wearethequest.org/wp-content/uploads/2021/12/Green-Fresh-Healthy-Food-Instagram-Post-1.png
END:VEVENT
BEGIN:VEVENT
DTSTART;TZID=America/Los_Angeles:20290816T183000
DTEND;TZID=America/Los_Angeles:20290816T193000
DTSTAMP:20260420T093718
CREATED:20250824T193404Z
LAST-MODIFIED:20250824T193443Z
UID:10006161-1881599400-1881603000@wearethequest.org
SUMMARY:Prayer Team Meeting
DESCRIPTION:Every other Monday evening at 6:30pm PT\, Christine Reyes leads Questers in a time of sharing and prayer. All are welcome to join and pray together. Join the meeting by clicking here. Need prayer? Submit a prayer request here.
URL:https://wearethequest.org/event/prayer-team-meeting-2022-04-07-2022-06-16-2-2/2029-08-16/
LOCATION:CA
ATTACH;FMTTYPE=image/png:https://wearethequest.org/wp-content/uploads/2021/05/White-Polaroid-Frame-Photo-Instagram-Post-.png
END:VEVENT
BEGIN:VEVENT
DTSTART;TZID=America/Los_Angeles:20290816T190000
DTEND;TZID=America/Los_Angeles:20290816T200000
DTSTAMP:20260420T093718
CREATED:20260418T220759Z
LAST-MODIFIED:20260418T220759Z
UID:10007624-1881601200-1881604800@wearethequest.org
SUMMARY:Novato Nar-Anon Meeting
DESCRIPTION:Our building hosts multiple 12-step and recovery groups throughout the week\, providing a consistent and trusted space for healing in our community. These groups are independent\, open to anyone who needs them\, and free to attend. \nMore information about the Novato Nar-Anon Meeting here.
URL:https://wearethequest.org/event/novato-nar-anon-meeting/2029-08-16/
LOCATION:The Quest\, 1461 S. Novato Blvd.\, Novato\, CA\, 94947\, United States
ATTACH;FMTTYPE=image/jpeg:https://wearethequest.org/wp-content/uploads/2026/04/getty-images-bh8QqUKIcPQ-unsplash-scaled.jpg
END:VEVENT
BEGIN:VEVENT
DTSTART;TZID=America/Los_Angeles:20290818T090000
DTEND;TZID=America/Los_Angeles:20290818T100000
DTSTAMP:20260420T093718
CREATED:20260418T220000Z
LAST-MODIFIED:20260418T220000Z
UID:10007364-1881738000-1881741600@wearethequest.org
SUMMARY:Alcoholics Anonymous "Intimate Feelings" Meeting
DESCRIPTION:Our building hosts multiple 12-step and recovery groups throughout the week\, providing a consistent and trusted space for healing in our community. These groups are independent\, open to anyone who needs them\, and free to attend. \n***NOTE: This meeting is only open to women who identify as alcoholics. \nMore information about the Intimate Feelings Meeting here.
URL:https://wearethequest.org/event/alcoholics-anonymous-intimate-feelings-meeting/2029-08-18/
LOCATION:The Quest\, 1461 S. Novato Blvd.\, Novato\, CA\, 94947\, United States
ATTACH;FMTTYPE=image/jpeg:https://wearethequest.org/wp-content/uploads/2026/04/andrej-lisakov-c8oNXfeKbFA-unsplash-scaled.jpg
END:VEVENT
BEGIN:VEVENT
DTSTART;TZID=America/Los_Angeles:20290819T120000
DTEND;TZID=America/Los_Angeles:20290819T140000
DTSTAMP:20260420T093718
CREATED:20251107T210527Z
LAST-MODIFIED:20260128T010631Z
UID:10006446-1881835200-1881842400@wearethequest.org
SUMMARY:Nourish the Community Food Pantry
DESCRIPTION:Beginning Sunday\, December 7\, from noon-2pm\, we will open our new “Nourish the Community” food pantry to whoever needs help with some additional groceries and personal care items. \nPlease bring donations to the church or contact Susan Kim.
URL:https://wearethequest.org/event/nourish-the-community-food-pantry/2029-08-19/
LOCATION:CA
ATTACH;FMTTYPE=image/jpeg:https://wearethequest.org/wp-content/uploads/2025/11/PANTRY-BANNER-6144-x-3072-px-scaled.jpg
END:VEVENT
BEGIN:VEVENT
DTSTART;TZID=America/Los_Angeles:20290820T120000
DTEND;TZID=America/Los_Angeles:20290820T130000
DTSTAMP:20260420T093718
CREATED:20260418T215009Z
LAST-MODIFIED:20260418T215009Z
UID:10006843-1881921600-1881925200@wearethequest.org
SUMMARY:Alcoholics Anonymous "Monday Nooners" Meeting
DESCRIPTION:Our building hosts multiple 12-step and recovery groups throughout the week\, providing a consistent and trusted space for healing in our community. These groups are independent\, open to anyone who needs them\, and free to attend. \nMore information about the Monday Nooners Meeting here.
URL:https://wearethequest.org/event/alcoholics-anonymous-monday-nooners-meeting/2029-08-20/
LOCATION:The Quest\, 1461 S. Novato Blvd.\, Novato\, CA\, 94947\, United States
ATTACH;FMTTYPE=image/jpeg:https://wearethequest.org/wp-content/uploads/2026/04/getty-images-PYXT4F1gAMg-unsplash-scaled.jpg
END:VEVENT
BEGIN:VEVENT
DTSTART;TZID=America/Los_Angeles:20290820T183000
DTEND;TZID=America/Los_Angeles:20290820T193000
DTSTAMP:20260420T093718
CREATED:20260418T215306Z
LAST-MODIFIED:20260418T215306Z
UID:10007104-1881945000-1881948600@wearethequest.org
SUMMARY:Alcoholics Anonymous "Just Can't Wait 'til 8" Meeting
DESCRIPTION:Our building hosts multiple 12-step and recovery groups throughout the week\, providing a consistent and trusted space for healing in our community. These groups are independent\, open to anyone who needs them\, and free to attend. \nMore information about the Just Can’t Wait ’til 8 Meeting here.
URL:https://wearethequest.org/event/alcoholics-anonymous-just-cant-wait-til-8-meeting/2029-08-20/
LOCATION:The Quest\, 1461 S. Novato Blvd.\, Novato\, CA\, 94947\, United States
ATTACH;FMTTYPE=image/jpeg:https://wearethequest.org/wp-content/uploads/2026/04/getty-images-PYXT4F1gAMg-unsplash-scaled.jpg
END:VEVENT
BEGIN:VEVENT
DTSTART;TZID=America/Los_Angeles:20290823T190000
DTEND;TZID=America/Los_Angeles:20290823T200000
DTSTAMP:20260420T093718
CREATED:20260418T220759Z
LAST-MODIFIED:20260418T220759Z
UID:10007625-1882206000-1882209600@wearethequest.org
SUMMARY:Novato Nar-Anon Meeting
DESCRIPTION:Our building hosts multiple 12-step and recovery groups throughout the week\, providing a consistent and trusted space for healing in our community. These groups are independent\, open to anyone who needs them\, and free to attend. \nMore information about the Novato Nar-Anon Meeting here.
URL:https://wearethequest.org/event/novato-nar-anon-meeting/2029-08-23/
LOCATION:The Quest\, 1461 S. Novato Blvd.\, Novato\, CA\, 94947\, United States
ATTACH;FMTTYPE=image/jpeg:https://wearethequest.org/wp-content/uploads/2026/04/getty-images-bh8QqUKIcPQ-unsplash-scaled.jpg
END:VEVENT
BEGIN:VEVENT
DTSTART;TZID=America/Los_Angeles:20290825T090000
DTEND;TZID=America/Los_Angeles:20290825T100000
DTSTAMP:20260420T093718
CREATED:20260418T220000Z
LAST-MODIFIED:20260418T220000Z
UID:10007365-1882342800-1882346400@wearethequest.org
SUMMARY:Alcoholics Anonymous "Intimate Feelings" Meeting
DESCRIPTION:Our building hosts multiple 12-step and recovery groups throughout the week\, providing a consistent and trusted space for healing in our community. These groups are independent\, open to anyone who needs them\, and free to attend. \n***NOTE: This meeting is only open to women who identify as alcoholics. \nMore information about the Intimate Feelings Meeting here.
URL:https://wearethequest.org/event/alcoholics-anonymous-intimate-feelings-meeting/2029-08-25/
LOCATION:The Quest\, 1461 S. Novato Blvd.\, Novato\, CA\, 94947\, United States
ATTACH;FMTTYPE=image/jpeg:https://wearethequest.org/wp-content/uploads/2026/04/andrej-lisakov-c8oNXfeKbFA-unsplash-scaled.jpg
END:VEVENT
BEGIN:VEVENT
DTSTART;TZID=America/Los_Angeles:20290826T120000
DTEND;TZID=America/Los_Angeles:20290826T140000
DTSTAMP:20260420T093718
CREATED:20251107T210527Z
LAST-MODIFIED:20260128T010631Z
UID:10006447-1882440000-1882447200@wearethequest.org
SUMMARY:Nourish the Community Food Pantry
DESCRIPTION:Beginning Sunday\, December 7\, from noon-2pm\, we will open our new “Nourish the Community” food pantry to whoever needs help with some additional groceries and personal care items. \nPlease bring donations to the church or contact Susan Kim.
URL:https://wearethequest.org/event/nourish-the-community-food-pantry/2029-08-26/
LOCATION:CA
ATTACH;FMTTYPE=image/jpeg:https://wearethequest.org/wp-content/uploads/2025/11/PANTRY-BANNER-6144-x-3072-px-scaled.jpg
END:VEVENT
BEGIN:VEVENT
DTSTART;TZID=America/Los_Angeles:20290827T120000
DTEND;TZID=America/Los_Angeles:20290827T130000
DTSTAMP:20260420T093718
CREATED:20260418T215009Z
LAST-MODIFIED:20260418T215009Z
UID:10006844-1882526400-1882530000@wearethequest.org
SUMMARY:Alcoholics Anonymous "Monday Nooners" Meeting
DESCRIPTION:Our building hosts multiple 12-step and recovery groups throughout the week\, providing a consistent and trusted space for healing in our community. These groups are independent\, open to anyone who needs them\, and free to attend. \nMore information about the Monday Nooners Meeting here.
URL:https://wearethequest.org/event/alcoholics-anonymous-monday-nooners-meeting/2029-08-27/
LOCATION:The Quest\, 1461 S. Novato Blvd.\, Novato\, CA\, 94947\, United States
ATTACH;FMTTYPE=image/jpeg:https://wearethequest.org/wp-content/uploads/2026/04/getty-images-PYXT4F1gAMg-unsplash-scaled.jpg
END:VEVENT
END:VCALENDAR