BEGIN:VCALENDAR
VERSION:2.0
PRODID:-//The Quest - ECPv6.15.20//NONSGML v1.0//EN
CALSCALE:GREGORIAN
METHOD:PUBLISH
X-WR-CALNAME:The Quest
X-ORIGINAL-URL:https://wearethequest.org
X-WR-CALDESC:Events for The Quest
REFRESH-INTERVAL;VALUE=DURATION:PT1H
X-Robots-Tag:noindex
X-PUBLISHED-TTL:PT1H
BEGIN:VTIMEZONE
TZID:America/Los_Angeles
BEGIN:DAYLIGHT
TZOFFSETFROM:-0800
TZOFFSETTO:-0700
TZNAME:PDT
DTSTART:20240310T100000
END:DAYLIGHT
BEGIN:STANDARD
TZOFFSETFROM:-0700
TZOFFSETTO:-0800
TZNAME:PST
DTSTART:20241103T090000
END:STANDARD
BEGIN:DAYLIGHT
TZOFFSETFROM:-0800
TZOFFSETTO:-0700
TZNAME:PDT
DTSTART:20250309T100000
END:DAYLIGHT
BEGIN:STANDARD
TZOFFSETFROM:-0700
TZOFFSETTO:-0800
TZNAME:PST
DTSTART:20251102T090000
END:STANDARD
BEGIN:DAYLIGHT
TZOFFSETFROM:-0800
TZOFFSETTO:-0700
TZNAME:PDT
DTSTART:20260308T100000
END:DAYLIGHT
BEGIN:STANDARD
TZOFFSETFROM:-0700
TZOFFSETTO:-0800
TZNAME:PST
DTSTART:20261101T090000
END:STANDARD
END:VTIMEZONE
BEGIN:VEVENT
DTSTART;TZID=America/Los_Angeles:20251228T100000
DTEND;TZID=America/Los_Angeles:20251228T110000
DTSTAMP:20260424T054749
CREATED:20251107T003344Z
LAST-MODIFIED:20251107T003345Z
UID:4254-1766916000-1766919600@wearethequest.org
SUMMARY:Christmas Break - NO IN-PERSON WORSHIP SERVICE
DESCRIPTION:We will NOT be gathering in person on Sunday\, December 28. Enjoy spending time with your family and friends\, and get some much-needed rest. We’ll see you next Sunday!
URL:https://wearethequest.org/event/in-person-worship-4-2021-12-05-2/
LOCATION:The Quest\, 1461 S. Novato Blvd.\, Novato\, CA\, 94947\, United States
ATTACH;FMTTYPE=image/png:https://wearethequest.org/wp-content/uploads/2021/06/Christmas-Break.png
END:VEVENT
END:VCALENDAR