BEGIN:VCALENDAR
VERSION:2.0
PRODID:-//The Quest - ECPv6.15.20//NONSGML v1.0//EN
CALSCALE:GREGORIAN
METHOD:PUBLISH
X-WR-CALNAME:The Quest
X-ORIGINAL-URL:https://wearethequest.org
X-WR-CALDESC:Events for The Quest
REFRESH-INTERVAL;VALUE=DURATION:PT1H
X-Robots-Tag:noindex
X-PUBLISHED-TTL:PT1H
BEGIN:VTIMEZONE
TZID:America/Los_Angeles
BEGIN:DAYLIGHT
TZOFFSETFROM:-0800
TZOFFSETTO:-0700
TZNAME:PDT
DTSTART:20240310T100000
END:DAYLIGHT
BEGIN:STANDARD
TZOFFSETFROM:-0700
TZOFFSETTO:-0800
TZNAME:PST
DTSTART:20241103T090000
END:STANDARD
BEGIN:DAYLIGHT
TZOFFSETFROM:-0800
TZOFFSETTO:-0700
TZNAME:PDT
DTSTART:20250309T100000
END:DAYLIGHT
BEGIN:STANDARD
TZOFFSETFROM:-0700
TZOFFSETTO:-0800
TZNAME:PST
DTSTART:20251102T090000
END:STANDARD
BEGIN:DAYLIGHT
TZOFFSETFROM:-0800
TZOFFSETTO:-0700
TZNAME:PDT
DTSTART:20260308T100000
END:DAYLIGHT
BEGIN:STANDARD
TZOFFSETFROM:-0700
TZOFFSETTO:-0800
TZNAME:PST
DTSTART:20261101T090000
END:STANDARD
END:VTIMEZONE
BEGIN:VEVENT
DTSTART;TZID=America/Los_Angeles:20251213T130000
DTEND;TZID=America/Los_Angeles:20251213T170000
DTSTAMP:20260420T045038
CREATED:20251113T230703Z
LAST-MODIFIED:20251113T230703Z
UID:4267-1765630800-1765645200@wearethequest.org
SUMMARY:Christmas Craft Fair and Market
DESCRIPTION:Join us for the Quest’s first annual Christmas Craft Fair and Market! Free to attend\, free for vendors! \nTo reserve your spot\, email Connie Tharin.
URL:https://wearethequest.org/event/christmas-craft-fair-and-market/
LOCATION:The Quest\, 1461 S. Novato Blvd.\, Novato\, CA\, 94947\, United States
ATTACH;FMTTYPE=image/png:https://wearethequest.org/wp-content/uploads/2025/11/Red-Yellow-and-Green-Illustrative-Christmas-Market-Instagram-Post.png
ORGANIZER;CN="Connie Tharin":MAILTO:consterslbt@gmail.com
END:VEVENT
END:VCALENDAR